BEGIN:VCALENDAR
VERSION:2.0
PRODID:-//CAI - Sezione di Sora - ECPv5.0.3.1//NONSGML v1.0//EN
CALSCALE:GREGORIAN
METHOD:PUBLISH
X-WR-CALNAME:CAI - Sezione di Sora
X-ORIGINAL-URL:https://www.caisora.it/sito
X-WR-CALDESC:Eventi per CAI - Sezione di Sora
BEGIN:VTIMEZONE
TZID:Europe/Rome
BEGIN:DAYLIGHT
TZOFFSETFROM:+0100
TZOFFSETTO:+0200
TZNAME:CEST
DTSTART:20210328T010000
END:DAYLIGHT
BEGIN:STANDARD
TZOFFSETFROM:+0200
TZOFFSETTO:+0100
TZNAME:CET
DTSTART:20211031T010000
END:STANDARD
END:VTIMEZONE
BEGIN:VEVENT
DTSTART;TZID=Europe/Rome:20210626T080000
DTEND;TZID=Europe/Rome:20210627T170000
DTSTAMP:20260421T094315
CREATED:20201125T090720Z
LAST-MODIFIED:20220106T183155Z
UID:2225-1624694400-1624813200@www.caisora.it
SUMMARY:SENTIERO ITALIA  (Monti Ernici)
DESCRIPTION:26 e 27 – SENTIERO ITALIA  (Monti Ernici)    \n    Tappe O02 e O03 con Cai Frosinone \n    Pernotto al Rif.  “il Casotto”  \nDifficoltà: E \nAcc.: Patrick Cristini e Alfredo Venditti \ncel 340.9814896 – cel 338.8631210 \n  \n \n
URL:https://www.caisora.it/sito/event/sentiero-italia-monti-ernici/
CATEGORIES:Escursioni
END:VEVENT
END:VCALENDAR