BEGIN:VCALENDAR
VERSION:2.0
PRODID:-//CAI - Sezione di Sora - ECPv5.0.3.1//NONSGML v1.0//EN
CALSCALE:GREGORIAN
METHOD:PUBLISH
X-WR-CALNAME:CAI - Sezione di Sora
X-ORIGINAL-URL:https://www.caisora.it/sito
X-WR-CALDESC:Eventi per CAI - Sezione di Sora
BEGIN:VTIMEZONE
TZID:Europe/Rome
BEGIN:DAYLIGHT
TZOFFSETFROM:+0100
TZOFFSETTO:+0200
TZNAME:CEST
DTSTART:20200329T010000
END:DAYLIGHT
BEGIN:STANDARD
TZOFFSETFROM:+0200
TZOFFSETTO:+0100
TZNAME:CET
DTSTART:20201025T010000
END:STANDARD
END:VTIMEZONE
BEGIN:VEVENT
DTSTART;VALUE=DATE:20201122
DTEND;VALUE=DATE:20201123
DTSTAMP:20260420T145152
CREATED:20200225T231809Z
LAST-MODIFIED:20200225T231809Z
UID:1623-1606003200-1606089599@www.caisora.it
SUMMARY:Picco Circe
DESCRIPTION:Gruppo Santissima CAI Sora\nPer informazioni:\nReferenti: \nMauro Romano – Cell. +39 3346875370 \nMario Ventura – Cell.. +39 3476819766 \nScarica il PDF con le norme di comportamento dell’escursione >> Clicca Qui << \n\n  \n
URL:https://www.caisora.it/sito/event/picco-circe/
LOCATION:Picco Circe
CATEGORIES:Santissima
END:VEVENT
END:VCALENDAR