BEGIN:VCALENDAR
VERSION:2.0
PRODID:-//CAI - Sezione di Sora - ECPv5.0.3.1//NONSGML v1.0//EN
CALSCALE:GREGORIAN
METHOD:PUBLISH
X-WR-CALNAME:CAI - Sezione di Sora
X-ORIGINAL-URL:https://www.caisora.it/sito
X-WR-CALDESC:Eventi per CAI - Sezione di Sora
BEGIN:VTIMEZONE
TZID:Europe/Rome
BEGIN:DAYLIGHT
TZOFFSETFROM:+0100
TZOFFSETTO:+0200
TZNAME:CEST
DTSTART:20200329T010000
END:DAYLIGHT
BEGIN:STANDARD
TZOFFSETFROM:+0200
TZOFFSETTO:+0100
TZNAME:CET
DTSTART:20201025T010000
END:STANDARD
END:VTIMEZONE
BEGIN:VEVENT
DTSTART;TZID=Europe/Rome:20200730T080000
DTEND;TZID=Europe/Rome:20200802T170000
DTSTAMP:20260420T145843
CREATED:20200225T230653Z
LAST-MODIFIED:20200225T230653Z
UID:1608-1596096000-1596387600@www.caisora.it
SUMMARY:Pellegrinaggio Santissima Trinità
DESCRIPTION:Gruppo Santissima CAI Sora\nPer informazioni:\nReferenti: \nMauro Romano – Cell. +39 3346875370 \nMario Ventura – Cell.. +39 3476819766 \nScarica il PDF con le norme di comportamento dell’escursione >> Clicca Qui << \n\n  \n
URL:https://www.caisora.it/sito/event/pellegrinaggio-santissima-trinita/
LOCATION:Pellegrinaggio Santissima Trinità
CATEGORIES:Santissima
END:VEVENT
END:VCALENDAR