BEGIN:VCALENDAR
VERSION:2.0
PRODID:-//CAI - Sezione di Sora - ECPv5.0.3.1//NONSGML v1.0//EN
CALSCALE:GREGORIAN
METHOD:PUBLISH
X-WR-CALNAME:CAI - Sezione di Sora
X-ORIGINAL-URL:https://www.caisora.it/sito
X-WR-CALDESC:Eventi per CAI - Sezione di Sora
BEGIN:VTIMEZONE
TZID:Europe/Rome
BEGIN:DAYLIGHT
TZOFFSETFROM:+0100
TZOFFSETTO:+0200
TZNAME:CEST
DTSTART:20200329T010000
END:DAYLIGHT
BEGIN:STANDARD
TZOFFSETFROM:+0200
TZOFFSETTO:+0100
TZNAME:CET
DTSTART:20201025T010000
END:STANDARD
END:VTIMEZONE
BEGIN:VEVENT
DTSTART;VALUE=DATE:20201011
DTEND;VALUE=DATE:20201012
DTSTAMP:20260420T160635
CREATED:20200225T214409Z
LAST-MODIFIED:20200326T114155Z
UID:1545-1602374400-1602460799@www.caisora.it
SUMMARY:Monte Serra Comune - (Ernici)
DESCRIPTION:  \nDifficolta: E \nPer informazioni:\nAccompagnatore: Patrick Cristini – Alfredo Venditti – Cell. +39 3409814896 \nScarica il PDF con le norme di comportamento dell’escursione >> Clicca Qui << \n\n  \n
URL:https://www.caisora.it/sito/event/monte-serra-comune-ernici/
LOCATION:Monte Serra COMUNE – (Ernici)
CATEGORIES:Escursioni
END:VEVENT
END:VCALENDAR