BEGIN:VCALENDAR
VERSION:2.0
PRODID:-//CAI - Sezione di Sora - ECPv5.0.3.1//NONSGML v1.0//EN
CALSCALE:GREGORIAN
METHOD:PUBLISH
X-WR-CALNAME:CAI - Sezione di Sora
X-ORIGINAL-URL:https://www.caisora.it/sito
X-WR-CALDESC:Eventi per CAI - Sezione di Sora
BEGIN:VTIMEZONE
TZID:Europe/Rome
BEGIN:DAYLIGHT
TZOFFSETFROM:+0100
TZOFFSETTO:+0200
TZNAME:CEST
DTSTART:20210328T010000
END:DAYLIGHT
BEGIN:STANDARD
TZOFFSETFROM:+0200
TZOFFSETTO:+0100
TZNAME:CET
DTSTART:20211031T010000
END:STANDARD
END:VTIMEZONE
BEGIN:VEVENT
DTSTART;TZID=Europe/Rome:20210328T080000
DTEND;TZID=Europe/Rome:20210328T170000
DTSTAMP:20260420T181001
CREATED:20201125T084740Z
LAST-MODIFIED:20201126T182138Z
UID:2204-1616918400-1616950800@www.caisora.it
SUMMARY:Monte Serra Alta (Monti Ernici)
DESCRIPTION:Monte Serra Alta (Monti Ernici) \n    Difficoltà: EE \n    Acc.: Patrick Cristini e Alfredo Venditti \ncel 340.9814896 – cel 338.8631210 \n  \n \n
URL:https://www.caisora.it/sito/event/monte-serra-alta-monti-ernici/
CATEGORIES:Escursioni
END:VEVENT
END:VCALENDAR