BEGIN:VCALENDAR
VERSION:2.0
PRODID:-//CAI - Sezione di Sora - ECPv5.0.3.1//NONSGML v1.0//EN
CALSCALE:GREGORIAN
METHOD:PUBLISH
X-WR-CALNAME:CAI - Sezione di Sora
X-ORIGINAL-URL:https://www.caisora.it/sito
X-WR-CALDESC:Eventi per CAI - Sezione di Sora
BEGIN:VTIMEZONE
TZID:Europe/Rome
BEGIN:DAYLIGHT
TZOFFSETFROM:+0100
TZOFFSETTO:+0200
TZNAME:CEST
DTSTART:20200329T010000
END:DAYLIGHT
BEGIN:STANDARD
TZOFFSETFROM:+0200
TZOFFSETTO:+0100
TZNAME:CET
DTSTART:20201025T010000
END:STANDARD
END:VTIMEZONE
BEGIN:VEVENT
DTSTART;VALUE=DATE:20201025
DTEND;VALUE=DATE:20201026
DTSTAMP:20260420T142927
CREATED:20200225T214643Z
LAST-MODIFIED:20200623T093148Z
UID:1548-1603584000-1603670399@www.caisora.it
SUMMARY:Monte Marcolano - (Pnalm)
DESCRIPTION:  \nDifficolta: E \nPer informazioni:\nAccompagnatore: Giorgio Lucarelli – Cell. 3406935390 – Domenico Spassiani – Cell. 3338009297\n \nScarica il PDF con le norme di comportamento dell’escursione >> Clicca Qui << \n\n  \n
URL:https://www.caisora.it/sito/event/monte-marcolano-pnalm/
LOCATION:Monte MARCOLANO – (Pnalm)
CATEGORIES:Escursioni
END:VEVENT
END:VCALENDAR