BEGIN:VCALENDAR
VERSION:2.0
PRODID:-//CAI - Sezione di Sora - ECPv5.0.3.1//NONSGML v1.0//EN
CALSCALE:GREGORIAN
METHOD:PUBLISH
X-WR-CALNAME:CAI - Sezione di Sora
X-ORIGINAL-URL:https://www.caisora.it/sito
X-WR-CALDESC:Eventi per CAI - Sezione di Sora
BEGIN:VTIMEZONE
TZID:Europe/Rome
BEGIN:DAYLIGHT
TZOFFSETFROM:+0100
TZOFFSETTO:+0200
TZNAME:CEST
DTSTART:20210328T010000
END:DAYLIGHT
BEGIN:STANDARD
TZOFFSETFROM:+0200
TZOFFSETTO:+0100
TZNAME:CET
DTSTART:20211031T010000
END:STANDARD
END:VTIMEZONE
BEGIN:VEVENT
DTSTART;TZID=Europe/Rome:20210509T080000
DTEND;TZID=Europe/Rome:20210509T170000
DTSTAMP:20260421T012603
CREATED:20201125T085737Z
LAST-MODIFIED:20210505T082010Z
UID:2215-1620547200-1620579600@www.caisora.it
SUMMARY:Anello M.te San Nicola - Cima Serra Matarazzo - M.te Colle Nero (PNALM versante laziale)
DESCRIPTION:    Anello M.te San Nicola – Cima Serra Matarazzo – M.te Colle Nero (PNALM versante laziale)\n    Difficoltà: E \n    Acc.: Patrick Tatangelo – Angelo Fantauzzi \n             cel 333.6206126 – 339 2340446 \n  \n \n
URL:https://www.caisora.it/sito/event/monte-cava-da-borgorose-ri-gruppo-m-ti-s-rocco-cava/
CATEGORIES:Escursioni
END:VEVENT
END:VCALENDAR