BEGIN:VCALENDAR
VERSION:2.0
PRODID:-//CAI - Sezione di Sora - ECPv5.0.3.1//NONSGML v1.0//EN
CALSCALE:GREGORIAN
METHOD:PUBLISH
X-WR-CALNAME:CAI - Sezione di Sora
X-ORIGINAL-URL:https://www.caisora.it/sito
X-WR-CALDESC:Eventi per CAI - Sezione di Sora
BEGIN:VTIMEZONE
TZID:Europe/Rome
BEGIN:DAYLIGHT
TZOFFSETFROM:+0100
TZOFFSETTO:+0200
TZNAME:CEST
DTSTART:20200329T010000
END:DAYLIGHT
BEGIN:STANDARD
TZOFFSETFROM:+0200
TZOFFSETTO:+0100
TZNAME:CET
DTSTART:20201025T010000
END:STANDARD
END:VTIMEZONE
BEGIN:VEVENT
DTSTART;VALUE=DATE:20200425
DTEND;VALUE=DATE:20200426
DTSTAMP:20260420T144433
CREATED:20200225T224532Z
LAST-MODIFIED:20200326T115108Z
UID:1577-1587772800-1587859199@www.caisora.it
SUMMARY:Monte Serra Alta (Ernici)
DESCRIPTION:  \nPer informazioni:\nReferenti: \nMauro Romano – Cell. +39 3346875370 \nMario Ventura – Cell.. +39 3476819766 \nScarica il PDF con le norme di comportamento dell’escursione >> Clicca Qui << \n\n  \n
URL:https://www.caisora.it/sito/event/m-te-serra-alta/
LOCATION:M.te Serra Alta
CATEGORIES:Santissima
END:VEVENT
END:VCALENDAR