BEGIN:VCALENDAR
VERSION:2.0
PRODID:-//CAI - Sezione di Sora - ECPv5.0.3.1//NONSGML v1.0//EN
CALSCALE:GREGORIAN
METHOD:PUBLISH
X-WR-CALNAME:CAI - Sezione di Sora
X-ORIGINAL-URL:https://www.caisora.it/sito
X-WR-CALDESC:Eventi per CAI - Sezione di Sora
BEGIN:VTIMEZONE
TZID:Europe/Rome
BEGIN:DAYLIGHT
TZOFFSETFROM:+0100
TZOFFSETTO:+0200
TZNAME:CEST
DTSTART:20200329T010000
END:DAYLIGHT
BEGIN:STANDARD
TZOFFSETFROM:+0200
TZOFFSETTO:+0100
TZNAME:CET
DTSTART:20201025T010000
END:STANDARD
END:VTIMEZONE
BEGIN:VEVENT
DTSTART;TZID=Europe/Rome:20200503T080000
DTEND;TZID=Europe/Rome:20200503T170000
DTSTAMP:20260420T145352
CREATED:20200225T153310Z
LAST-MODIFIED:20200225T155218Z
UID:1500-1588492800-1588525200@www.caisora.it
SUMMARY:Gole del Sagittario - Monte S.Angelo
DESCRIPTION:Gruppo Genzana\n \nDifficolta: E \nPer informazioni:\nAccompagnatore: Lucio Meglio – Emanuele Petrozzi – Cell. +39 3935778529 \nScarica il PDF con le norme di comportamento dell’escursione >> Clicca Qui << \n\n  \n
URL:https://www.caisora.it/sito/event/gole-del-sagittario-monte-s-angelo/
LOCATION:Gole del Sagittario
CATEGORIES:Escursioni
END:VEVENT
END:VCALENDAR