BEGIN:VCALENDAR
VERSION:2.0
PRODID:-//CAI - Sezione di Sora - ECPv5.0.3.1//NONSGML v1.0//EN
CALSCALE:GREGORIAN
METHOD:PUBLISH
X-WR-CALNAME:CAI - Sezione di Sora
X-ORIGINAL-URL:https://www.caisora.it/sito
X-WR-CALDESC:Eventi per CAI - Sezione di Sora
BEGIN:VTIMEZONE
TZID:Europe/Rome
BEGIN:DAYLIGHT
TZOFFSETFROM:+0100
TZOFFSETTO:+0200
TZNAME:CEST
DTSTART:20200329T010000
END:DAYLIGHT
BEGIN:STANDARD
TZOFFSETFROM:+0200
TZOFFSETTO:+0100
TZNAME:CET
DTSTART:20201025T010000
END:STANDARD
END:VTIMEZONE
BEGIN:VEVENT
DTSTART;VALUE=DATE:20200726
DTEND;VALUE=DATE:20200727
DTSTAMP:20260420T142950
CREATED:20200225T212645Z
LAST-MODIFIED:20200623T092313Z
UID:1530-1595721600-1595807999@www.caisora.it
SUMMARY:Monte FORCELLA da Pescasseroli - (PNALM)
DESCRIPTION:Difficolta: E \nPer informazioni:\nAccompagnatore: Domenico Castellucci – Cell. 3358025627 – Lucio Meglio Cell. 393 5778529\n \nScarica il PDF con le norme di comportamento dell’escursione >> Clicca Qui << \n\n  \n
URL:https://www.caisora.it/sito/event/cresta-del-puzzillo-3-vette/
LOCATION:Cresta del PUZZILLO – (3 Vette)
CATEGORIES:Escursioni
END:VEVENT
END:VCALENDAR