BEGIN:VCALENDAR
VERSION:2.0
PRODID:-//CAI - Sezione di Sora - ECPv5.0.3.1//NONSGML v1.0//EN
CALSCALE:GREGORIAN
METHOD:PUBLISH
X-WR-CALNAME:CAI - Sezione di Sora
X-ORIGINAL-URL:https://www.caisora.it/sito
X-WR-CALDESC:Eventi per CAI - Sezione di Sora
BEGIN:VTIMEZONE
TZID:Europe/Rome
BEGIN:DAYLIGHT
TZOFFSETFROM:+0100
TZOFFSETTO:+0200
TZNAME:CEST
DTSTART:20200329T010000
END:DAYLIGHT
BEGIN:STANDARD
TZOFFSETFROM:+0200
TZOFFSETTO:+0100
TZNAME:CET
DTSTART:20201025T010000
END:STANDARD
END:VTIMEZONE
BEGIN:VEVENT
DTSTART;VALUE=DATE:20200712
DTEND;VALUE=DATE:20200713
DTSTAMP:20260420T163806
CREATED:20200225T212305Z
LAST-MODIFIED:20200623T092900Z
UID:1527-1594512000-1594598399@www.caisora.it
SUMMARY:Serra di ROCCA CHIARANO - (PNALM)
DESCRIPTION:  \nDifficolta: EE \nPer informazioni:\nAccompagnatore: Patrick Tatangelo – Cell. 3388728144 – Alfredo Venditti Cell. 3388631210\n \nScarica il PDF con le norme di comportamento dell’escursione >> Clicca Qui << \n\n  \n
URL:https://www.caisora.it/sito/event/corno-grande-via-normale-gran-sasso/
LOCATION:Corno Grande via normale – (Gran Sasso)
CATEGORIES:Escursioni
END:VEVENT
END:VCALENDAR