BEGIN:VCALENDAR
VERSION:2.0
PRODID:-//CAI - Sezione di Sora - ECPv5.0.3.1//NONSGML v1.0//EN
CALSCALE:GREGORIAN
METHOD:PUBLISH
X-WR-CALNAME:CAI - Sezione di Sora
X-ORIGINAL-URL:https://www.caisora.it/sito
X-WR-CALDESC:Eventi per CAI - Sezione di Sora
BEGIN:VTIMEZONE
TZID:Europe/Rome
BEGIN:DAYLIGHT
TZOFFSETFROM:+0100
TZOFFSETTO:+0200
TZNAME:CEST
DTSTART:20210328T010000
END:DAYLIGHT
BEGIN:STANDARD
TZOFFSETFROM:+0200
TZOFFSETTO:+0100
TZNAME:CET
DTSTART:20211031T010000
END:STANDARD
END:VTIMEZONE
BEGIN:VEVENT
DTSTART;TZID=Europe/Rome:20210228T080000
DTEND;TZID=Europe/Rome:20210228T170000
DTSTAMP:20260420T145833
CREATED:20201125T083416Z
LAST-MODIFIED:20201126T182105Z
UID:2195-1614499200-1614531600@www.caisora.it
SUMMARY:Ciasp. “Racchette a Coppo dell’orso” - (Pnalm) - Cai Vallelonga
DESCRIPTION:Ciasp. “Racchette a Coppo dell’orso”  – (Pnalm) – Cai Vallelonga \na cura della sez. del Cai di Vallelonga (AQ) \nDifficoltà: EAI \n    Acc.: Domenico Spassiani  – cel 333.8009297 \n  \n \n  \n \n
URL:https://www.caisora.it/sito/event/ciasp-racchette-a-coppo-dellorso-pnalm-cai-vallelonga/
CATEGORIES:Ciaspolata
END:VEVENT
END:VCALENDAR