BEGIN:VCALENDAR
VERSION:2.0
PRODID:-//CAI - Sezione di Sora - ECPv5.0.3.1//NONSGML v1.0//EN
CALSCALE:GREGORIAN
METHOD:PUBLISH
X-WR-CALNAME:CAI - Sezione di Sora
X-ORIGINAL-URL:https://www.caisora.it/sito
X-WR-CALDESC:Eventi per CAI - Sezione di Sora
BEGIN:VTIMEZONE
TZID:Europe/Rome
BEGIN:DAYLIGHT
TZOFFSETFROM:+0100
TZOFFSETTO:+0200
TZNAME:CEST
DTSTART:20210328T010000
END:DAYLIGHT
BEGIN:STANDARD
TZOFFSETFROM:+0200
TZOFFSETTO:+0100
TZNAME:CET
DTSTART:20211031T010000
END:STANDARD
END:VTIMEZONE
BEGIN:VEVENT
DTSTART;TZID=Europe/Rome:20210417T080000
DTEND;TZID=Europe/Rome:20210418T170000
DTSTAMP:20260420T200301
CREATED:20201125T085159Z
LAST-MODIFIED:20201126T182157Z
UID:2209-1618646400-1618765200@www.caisora.it
SUMMARY:CAMMINO DI SAN BENEDETTO     Da Subiaco a Collepardo  (LAZIO)
DESCRIPTION:17 e 18  –  CAMMINO DI SAN BENEDETTO: Da Subiaco a Collepardo  (LAZIO)  \nPernotto e pullman \n    Difficoltà: E \n    Acc.: Patrick Cristini e Paola Menichetti \ncel 340.9814896 – cel 338.5814139 \n  \n \n
URL:https://www.caisora.it/sito/event/cammino-di-san-benedetto-da-subiaco-a-collepardo-lazio/
CATEGORIES:Escursioni
END:VEVENT
END:VCALENDAR