BEGIN:VCALENDAR
VERSION:2.0
PRODID:-//CAI - Sezione di Sora - ECPv5.0.3.1//NONSGML v1.0//EN
CALSCALE:GREGORIAN
METHOD:PUBLISH
X-WR-CALNAME:CAI - Sezione di Sora
X-ORIGINAL-URL:https://www.caisora.it/sito
X-WR-CALDESC:Eventi per CAI - Sezione di Sora
BEGIN:VTIMEZONE
TZID:Europe/Rome
BEGIN:DAYLIGHT
TZOFFSETFROM:+0100
TZOFFSETTO:+0200
TZNAME:CEST
DTSTART:20210328T010000
END:DAYLIGHT
BEGIN:STANDARD
TZOFFSETFROM:+0200
TZOFFSETTO:+0100
TZNAME:CET
DTSTART:20211031T010000
END:STANDARD
END:VTIMEZONE
BEGIN:VEVENT
DTSTART;TZID=Europe/Rome:20210307T080000
DTEND;TZID=Europe/Rome:20210307T170000
DTSTAMP:20260420T163321
CREATED:20201125T083740Z
LAST-MODIFIED:20201126T182124Z
UID:2200-1615104000-1615136400@www.caisora.it
SUMMARY:Anello di Monte Tifata - (Appennino Campano) con il Cai Caserta
DESCRIPTION:Anello di Monte Tifata                     \n    (Appennino Campano) con il Cai Caserta \n    Difficoltà: E \nAcc.: Lucio Meglio \n             cel 393.5778529 \n  \n \n
URL:https://www.caisora.it/sito/event/anello-di-monte-tifata-appennino-campano-con-il-cai-caserta/
CATEGORIES:Escursioni
END:VEVENT
END:VCALENDAR